BEGIN:VCALENDAR
VERSION:2.0
PRODID:-//ChamberMaster//Event Calendar 2.0//EN
METHOD:PUBLISH
X-PUBLISHED-TTL:P3D
REFRESH-INTERVAL:P3D
CALSCALE:GREGORIAN
BEGIN:VEVENT
DTSTART:20260502T123000Z
DTEND:20260502T133000Z
X-MICROSOFT-CDO-ALLDAYEVENT:FALSE
SUMMARY:Stories in the Sand: Morning Beach Walk
DESCRIPTION:Join us to learn about the wonders of our beautiful coast including the mysteries of sea turtle nesting. We will meander down the beach and discuss the wonders of sea turtle nesting and what makes our coastline so special. Free program\, registration required.
X-ALT-DESC;FMTTYPE=text/html:Join us to learn about the wonders of our beautiful coast including the mysteries of sea turtle nesting. We will meander down the beach and discuss the wonders of sea turtle nesting and what makes our coastline so special. Free program\, registration required.
LOCATION:Bob Graham Beach
UID:e.3209.19098
SEQUENCE:3
DTSTAMP:20260421T083420Z
URL:https://cm-dev.stuartmartinchamber.org/events/details/stories-in-the-sand-morning-beach-walk-19098
END:VEVENT

END:VCALENDAR
