BEGIN:VCALENDAR
VERSION:2.0
PRODID:-//ChamberMaster//Event Calendar 2.0//EN
METHOD:PUBLISH
X-PUBLISHED-TTL:P3D
REFRESH-INTERVAL:P3D
CALSCALE:GREGORIAN
BEGIN:VEVENT
DTSTART:20260425T000000Z
DTEND:20260425T013000Z
X-MICROSOFT-CDO-ALLDAYEVENT:FALSE
SUMMARY:Moon Observation Night
DESCRIPTION:Join Martin County and the Treasure Coast Astronomical Society for this free event to view and learn about our amazing moon in Jensen Beach! Free program\, registration required.
X-ALT-DESC;FMTTYPE=text/html:Join Martin County and the Treasure Coast Astronomical Society for this free event to view and learn about our amazing moon in Jensen Beach! Free program\, registration required.
LOCATION:Indian Riverside Park
UID:e.3209.19096
SEQUENCE:3
DTSTAMP:20260421T095114Z
URL:https://cm-dev.stuartmartinchamber.org/events/details/moon-observation-night-04-24-2026-19096
END:VEVENT

END:VCALENDAR
